BEGIN:VCALENDAR
VERSION:2.0
PRODID:-//Sabre//Sabre VObject 4.5.8//EN
CALSCALE:GREGORIAN
BEGIN:VEVENT
UID:sabre-vobject-96af7e65-18ed-428a-b49c-1d8064d9bce9
DTSTAMP:20260422T055344Z
SUMMARY:Eucharistische Anbetung
DESCRIPTION:https://pfarreien-bistum-augsburg.df-preview.de/eucharistische-
 anbetung_id1739718
DTSTART;TZID=Europe/Berlin:20260421T181500
DURATION:PT30M
LOCATION:St. Ulrich
END:VEVENT
END:VCALENDAR
