BEGIN:VCALENDAR
VERSION:2.0
PRODID:-//Sabre//Sabre VObject 4.5.8//EN
CALSCALE:GREGORIAN
BEGIN:VEVENT
UID:sabre-vobject-91f05e21-07e5-4646-bfcb-3975f9f16826
DTSTAMP:20260422T031756Z
SUMMARY:Seniorenclub
DESCRIPTION:https://pfarreien-bistum-augsburg.df-preview.de/seniorenclub_id
 1739626
DTSTART;TZID=Europe/Berlin:20260513T143000
DURATION:PT30M
LOCATION:Don Bosco
END:VEVENT
END:VCALENDAR
