BEGIN:VCALENDAR
VERSION:2.0
PRODID:-//Sabre//Sabre VObject 4.5.8//EN
CALSCALE:GREGORIAN
BEGIN:VEVENT
UID:sabre-vobject-e48da63b-c2bd-41b7-a76a-55aadc154451
DTSTAMP:20260423T094424Z
SUMMARY:Rosenkranz
DESCRIPTION:https://pfarreien-bistum-augsburg.df-preview.de/rosenkranz_id17
 39603
DTSTART;TZID=Europe/Berlin:20261008T083000
DURATION:PT30M
LOCATION:Don Bosco
END:VEVENT
END:VCALENDAR
