BEGIN:VCALENDAR
VERSION:2.0
PRODID:-//Sabre//Sabre VObject 4.5.8//EN
CALSCALE:GREGORIAN
BEGIN:VEVENT
UID:sabre-vobject-12181815-c753-40c0-86a6-1a7fa5f6e6cf
DTSTAMP:20260423T125101Z
SUMMARY:Rosenkranz
DESCRIPTION:https://pfarreien-bistum-augsburg.df-preview.de/rosenkranz_id17
 39600
DTSTART;TZID=Europe/Berlin:20261006T173000
DURATION:PT30M
LOCATION:Don Bosco
END:VEVENT
END:VCALENDAR
