BEGIN:VCALENDAR
VERSION:2.0
PRODID:-//Sabre//Sabre VObject 4.5.8//EN
CALSCALE:GREGORIAN
BEGIN:VEVENT
UID:sabre-vobject-1aa2829e-cac8-4f12-9c11-4e39116ecb68
DTSTAMP:20260421T160246Z
SUMMARY:Morgengebet anschl. Fair-Handelsfrühstück
DESCRIPTION:https://pfarreien-bistum-augsburg.df-preview.de/morgengebet-ans
 chl-fair-handelsfruehstueck_id1739581
DTSTART;TZID=Europe/Berlin:20261110T080000
DURATION:PT30M
LOCATION:Don Bosco
END:VEVENT
END:VCALENDAR
