BEGIN:VCALENDAR
VERSION:2.0
PRODID:-//Sabre//Sabre VObject 4.5.8//EN
CALSCALE:GREGORIAN
BEGIN:VEVENT
UID:sabre-vobject-e6cb93aa-73ee-491f-9a37-a0ed1a24219e
DTSTAMP:20260421T142933Z
SUMMARY:Heilige Messe rumänisch-orthodoxe Gemeinde
DESCRIPTION:https://pfarreien-bistum-augsburg.df-preview.de/heilige-messe-r
 umaenisch-orthodoxe-gemeinde_id1739566
DTSTART;TZID=Europe/Berlin:20261220T110000
DURATION:PT30M
LOCATION:Don Bosco
END:VEVENT
END:VCALENDAR
