BEGIN:VCALENDAR
VERSION:2.0
PRODID:-//Sabre//Sabre VObject 4.5.8//EN
CALSCALE:GREGORIAN
BEGIN:VEVENT
UID:sabre-vobject-896bca2a-9c17-4fc8-a7d3-6e6057394da3
DTSTAMP:20260421T135008Z
SUMMARY:Rosenkranz
DESCRIPTION:https://pfarreien-bistum-augsburg.df-preview.de/rosenkranz_id17
 39563
DTSTART;TZID=Europe/Berlin:20261215T173000
DURATION:PT30M
LOCATION:Don Bosco
END:VEVENT
END:VCALENDAR
