BEGIN:VCALENDAR
VERSION:2.0
PRODID:-//Sabre//Sabre VObject 4.5.8//EN
CALSCALE:GREGORIAN
BEGIN:VEVENT
UID:sabre-vobject-34436e10-5e93-4853-b2f6-b77ae1f5f3f1
DTSTAMP:20260421T123442Z
SUMMARY:Eucharistiefeier
DESCRIPTION:https://pfarreien-bistum-augsburg.df-preview.de/eucharistiefeie
 r_id1739560
DTSTART;TZID=Europe/Berlin:20261219T180000
DURATION:PT30M
LOCATION:Don Bosco
END:VEVENT
END:VCALENDAR
