BEGIN:VCALENDAR
VERSION:2.0
PRODID:-//Sabre//Sabre VObject 4.5.8//EN
CALSCALE:GREGORIAN
BEGIN:VEVENT
UID:sabre-vobject-457b76c8-2605-4f4d-bff3-4035c27a28f2
DTSTAMP:20260423T154623Z
SUMMARY:Heilige Messe rumänisch-orthodoxe Gemeinde
DESCRIPTION:https://pfarreien-bistum-augsburg.df-preview.de/heilige-messe-r
 umaenisch-orthodoxe-gemeinde_id1739521
DTSTART;TZID=Europe/Berlin:20261004T110000
DURATION:PT30M
LOCATION:Don Bosco
END:VEVENT
END:VCALENDAR
