BEGIN:VCALENDAR
VERSION:2.0
PRODID:-//Sabre//Sabre VObject 4.5.8//EN
CALSCALE:GREGORIAN
BEGIN:VEVENT
UID:sabre-vobject-4be363c4-756c-461d-8cbb-419c7e41a696
DTSTAMP:20260421T154253Z
SUMMARY:Eucharistiefeier
DESCRIPTION:https://pfarreien-bistum-augsburg.df-preview.de/eucharistiefeie
 r_id1739508
DTSTART;TZID=Europe/Berlin:20261217T090000
DURATION:PT30M
LOCATION:Don Bosco
END:VEVENT
END:VCALENDAR
