BEGIN:VCALENDAR
VERSION:2.0
PRODID:-//Sabre//Sabre VObject 4.5.8//EN
CALSCALE:GREGORIAN
BEGIN:VEVENT
UID:sabre-vobject-0b1d3d32-3839-4f2f-9bd8-19aa1c79484f
DTSTAMP:20260421T112707Z
SUMMARY:Tauffeier der Gemeinde
DESCRIPTION:https://pfarreien-bistum-augsburg.df-preview.de/tauffeier-der-g
 emeinde_id1739502
DTSTART;TZID=Europe/Berlin:20260425T140000
DURATION:PT30M
LOCATION:St. Franziskus
END:VEVENT
END:VCALENDAR
