BEGIN:VCALENDAR
VERSION:2.0
PRODID:-//Sabre//Sabre VObject 4.5.8//EN
CALSCALE:GREGORIAN
BEGIN:VEVENT
UID:sabre-vobject-558fdf8c-1b4c-415a-94ea-b47a1b5666e3
DTSTAMP:20260422T223819Z
SUMMARY:Altenberger Rosenkranz
DESCRIPTION:https://pfarreien-bistum-augsburg.df-preview.de/altenberger-ros
 enkranz_id1739491
DTSTART;TZID=Europe/Berlin:20260606T174500
DURATION:PT30M
LOCATION:Don Bosco
END:VEVENT
END:VCALENDAR
