BEGIN:VCALENDAR
VERSION:2.0
PRODID:-//Sabre//Sabre VObject 4.5.8//EN
CALSCALE:GREGORIAN
BEGIN:VEVENT
UID:sabre-vobject-b4c01c31-934d-4921-a244-b6c9d892b45e
DTSTAMP:20260422T165527Z
SUMMARY:Eucharistiefeier
DESCRIPTION:https://pfarreien-bistum-augsburg.df-preview.de/eucharistiefeie
 r_id1739454
DTSTART;TZID=Europe/Berlin:20260530T180000
DURATION:PT30M
LOCATION:Don Bosco
END:VEVENT
END:VCALENDAR
