BEGIN:VCALENDAR
VERSION:2.0
PRODID:-//Sabre//Sabre VObject 4.5.8//EN
CALSCALE:GREGORIAN
BEGIN:VEVENT
UID:sabre-vobject-0094cd30-9a89-46aa-8291-3ce379739b8a
DTSTAMP:20260420T134756Z
SUMMARY:Eucharistiefeier
DESCRIPTION:https://pfarreien-bistum-augsburg.df-preview.de/eucharistiefeie
 r_id1739387
DTSTART;TZID=Europe/Berlin:20260510T093000
DURATION:PT30M
LOCATION:Don Bosco
END:VEVENT
END:VCALENDAR
