BEGIN:VCALENDAR
VERSION:2.0
PRODID:-//Sabre//Sabre VObject 4.5.8//EN
CALSCALE:GREGORIAN
BEGIN:VEVENT
UID:sabre-vobject-1f73ed81-8145-4cb7-b34f-64888a4690ea
DTSTAMP:20260424T173601Z
SUMMARY:Rosenkranz
DESCRIPTION:https://pfarreien-bistum-augsburg.df-preview.de/rosenkranz_id17
 39329
DTSTART;TZID=Europe/Berlin:20261015T083000
DURATION:PT30M
LOCATION:Don Bosco
END:VEVENT
END:VCALENDAR
