BEGIN:VCALENDAR
VERSION:2.0
PRODID:-//Sabre//Sabre VObject 4.5.8//EN
CALSCALE:GREGORIAN
BEGIN:VEVENT
UID:sabre-vobject-b9fb95a4-7544-4aeb-8e73-ebe4fed023c8
DTSTAMP:20260422T003743Z
SUMMARY:feierliche Maiandacht "Maria sagt: Du wirst immer mein Kind sein"\,
 \n musikalische Gestaltung durch den Cantus Chor\, \nim Anschluß Häppche
 n und Getränke am Kirchplatz
DESCRIPTION:https://pfarreien-bistum-augsburg.df-preview.de/feierliche-maia
 ndacht-maria-sagt-du-wirst-immer-mein-kind-sein-musikalische-gestaltung-du
 rch-den-cantus-chor-im-anschluss-haeppchen-und-getraenke-am-kirchplatz_id1
 739267
DTSTART;TZID=Europe/Berlin:20260503T170000
DURATION:PT30M
LOCATION:St. Georg\, Georgstraße 36\, 86316 Bachern
END:VEVENT
END:VCALENDAR
