BEGIN:VCALENDAR
VERSION:2.0
PRODID:-//Sabre//Sabre VObject 4.5.8//EN
CALSCALE:GREGORIAN
BEGIN:VEVENT
UID:sabre-vobject-310a6286-5738-4eeb-9e06-8634aa07bb28
DTSTAMP:20260422T031841Z
SUMMARY:Eucharistiefeier
DESCRIPTION:https://pfarreien-bistum-augsburg.df-preview.de/eucharistiefeie
 r_id1739240
DTSTART;TZID=Europe/Berlin:20261122T093000
DURATION:PT30M
LOCATION:Don Bosco
END:VEVENT
END:VCALENDAR
