BEGIN:VCALENDAR
VERSION:2.0
PRODID:-//Sabre//Sabre VObject 4.5.8//EN
CALSCALE:GREGORIAN
BEGIN:VEVENT
UID:sabre-vobject-6cf56712-eebc-487d-a9d8-e62fc3baf9b4
DTSTAMP:20260423T070631Z
SUMMARY:Altenberger Rosenkranz
DESCRIPTION:https://pfarreien-bistum-augsburg.df-preview.de/altenberger-ros
 enkranz_id1739238
DTSTART;TZID=Europe/Berlin:20261121T174500
DURATION:PT30M
LOCATION:Don Bosco
END:VEVENT
END:VCALENDAR
