BEGIN:VCALENDAR
VERSION:2.0
PRODID:-//Sabre//Sabre VObject 4.5.8//EN
CALSCALE:GREGORIAN
BEGIN:VEVENT
UID:sabre-vobject-0c2d5e50-aaf3-4b03-afe9-1af41828ddb7
DTSTAMP:20260423T015541Z
SUMMARY:Eucharistiefeier
DESCRIPTION:https://pfarreien-bistum-augsburg.df-preview.de/eucharistiefeie
 r_id1739230
DTSTART;TZID=Europe/Berlin:20261011T093000
DURATION:PT30M
LOCATION:Don Bosco
END:VEVENT
END:VCALENDAR
