BEGIN:VCALENDAR
VERSION:2.0
PRODID:-//Sabre//Sabre VObject 4.5.8//EN
CALSCALE:GREGORIAN
BEGIN:VEVENT
UID:sabre-vobject-61c40338-de1c-4d6b-9dc7-1ac50f37f18a
DTSTAMP:20260421T141146Z
SUMMARY:Rosenkranz
DESCRIPTION:https://pfarreien-bistum-augsburg.df-preview.de/rosenkranz_id17
 39219
DTSTART;TZID=Europe/Berlin:20261224T083000
DURATION:PT30M
LOCATION:Don Bosco
END:VEVENT
END:VCALENDAR
