BEGIN:VCALENDAR
VERSION:2.0
PRODID:-//Sabre//Sabre VObject 4.5.8//EN
CALSCALE:GREGORIAN
BEGIN:VEVENT
UID:sabre-vobject-4ad5ee6d-7c83-4654-9579-52e92f1add76
DTSTAMP:20260424T081729Z
SUMMARY:Rosenkranz
DESCRIPTION:https://pfarreien-bistum-augsburg.df-preview.de/rosenkranz_id17
 39214
DTSTART;TZID=Europe/Berlin:20261117T173000
DURATION:PT30M
LOCATION:Don Bosco
END:VEVENT
END:VCALENDAR
