BEGIN:VCALENDAR
VERSION:2.0
PRODID:-//Sabre//Sabre VObject 4.5.8//EN
CALSCALE:GREGORIAN
BEGIN:VEVENT
UID:sabre-vobject-ae3fccb5-ace2-4a22-af3a-2c03b3c6cbcd
DTSTAMP:20260423T100527Z
SUMMARY:Dankandacht
DESCRIPTION:https://pfarreien-bistum-augsburg.df-preview.de/dankandacht_id1
 739158
DTSTART;TZID=Europe/Berlin:20260517T170000
DURATION:PT30M
LOCATION:St. Blasius
END:VEVENT
END:VCALENDAR
