BEGIN:VCALENDAR
VERSION:2.0
PRODID:-//Sabre//Sabre VObject 4.5.8//EN
CALSCALE:GREGORIAN
BEGIN:VEVENT
UID:sabre-vobject-3f8d16f0-14f9-45b4-96f3-8cca81b73d8a
DTSTAMP:20260423T142119Z
SUMMARY:Heilige Messe
DESCRIPTION:https://pfarreien-bistum-augsburg.df-preview.de/heilige-messe_i
 d1739098
DTSTART;TZID=Europe/Berlin:20260522T083000
DURATION:PT30M
LOCATION:St. Blasius
END:VEVENT
END:VCALENDAR
