BEGIN:VCALENDAR
VERSION:2.0
PRODID:-//Sabre//Sabre VObject 4.5.8//EN
CALSCALE:GREGORIAN
BEGIN:VEVENT
UID:sabre-vobject-03f82413-bb3a-4130-854a-1a8ed5c8d23e
DTSTAMP:20260423T015547Z
SUMMARY:Rosenkranz entfällt
DESCRIPTION:https://pfarreien-bistum-augsburg.df-preview.de/rosenkranz-entf
 aellt_id1739088
DTSTART;TZID=Europe/Berlin:20260513T180000
DURATION:PT30M
LOCATION:St. Blasius
END:VEVENT
END:VCALENDAR
