BEGIN:VCALENDAR
VERSION:2.0
PRODID:-//Sabre//Sabre VObject 4.5.8//EN
CALSCALE:GREGORIAN
BEGIN:VEVENT
UID:sabre-vobject-3661a9b3-fbce-4f89-9a23-66859197898d
DTSTAMP:20260425T042026Z
SUMMARY:Rosenkranz
DESCRIPTION:https://pfarreien-bistum-augsburg.df-preview.de/rosenkranz_id17
 39082
DTSTART;TZID=Europe/Berlin:20260922T173000
DURATION:PT30M
LOCATION:Don Bosco
END:VEVENT
END:VCALENDAR
