BEGIN:VCALENDAR
VERSION:2.0
PRODID:-//Sabre//Sabre VObject 4.5.8//EN
CALSCALE:GREGORIAN
BEGIN:VEVENT
UID:sabre-vobject-adc7bd60-3772-466b-bec1-fd192d63bfff
DTSTAMP:20260424T092718Z
SUMMARY:Altenberger Rosenkranz
DESCRIPTION:https://pfarreien-bistum-augsburg.df-preview.de/altenberger-ros
 enkranz_id1739040
DTSTART;TZID=Europe/Berlin:20260905T174500
DURATION:PT30M
LOCATION:Don Bosco
END:VEVENT
END:VCALENDAR
