BEGIN:VCALENDAR
VERSION:2.0
PRODID:-//Sabre//Sabre VObject 4.5.8//EN
CALSCALE:GREGORIAN
BEGIN:VEVENT
UID:sabre-vobject-ecc4fa01-b28d-49b7-8376-ef73bf96c9e2
DTSTAMP:20260423T091613Z
SUMMARY:Heilige Messe rumänisch-orthodoxe Gemeinde
DESCRIPTION:https://pfarreien-bistum-augsburg.df-preview.de/heilige-messe-r
 umaenisch-orthodoxe-gemeinde_id1739015
DTSTART;TZID=Europe/Berlin:20260524T110000
DURATION:PT30M
LOCATION:Don Bosco
END:VEVENT
END:VCALENDAR
