BEGIN:VCALENDAR
VERSION:2.0
PRODID:-//Sabre//Sabre VObject 4.5.8//EN
CALSCALE:GREGORIAN
BEGIN:VEVENT
UID:sabre-vobject-0a8a01b0-557a-42e8-bf24-0254bca67243
DTSTAMP:20260421T033834Z
SUMMARY:Erstkommunionfeier Niederrieden
DESCRIPTION:https://pfarreien-bistum-augsburg.df-preview.de/erstkommunionfe
 ier-niederrieden_id1738971
DTSTART;TZID=Europe/Berlin:20260426T101500
DURATION:PT30M
LOCATION:St. Georg
END:VEVENT
END:VCALENDAR
