BEGIN:VCALENDAR
VERSION:2.0
PRODID:-//Sabre//Sabre VObject 4.5.8//EN
CALSCALE:GREGORIAN
BEGIN:VEVENT
UID:sabre-vobject-a1d61143-d1b6-4f27-832b-ea1743da5c26
DTSTAMP:20260424T154326Z
SUMMARY:Eucharistiefeier anschließend Kirchencafé
DESCRIPTION:https://pfarreien-bistum-augsburg.df-preview.de/eucharistiefeie
 r-anschliessend-kirchencafe_id1738916
DTSTART;TZID=Europe/Berlin:20260802T093000
DURATION:PT30M
LOCATION:Don Bosco
END:VEVENT
END:VCALENDAR
