BEGIN:VCALENDAR
VERSION:2.0
PRODID:-//Sabre//Sabre VObject 4.5.8//EN
CALSCALE:GREGORIAN
BEGIN:VEVENT
UID:sabre-vobject-40729dc0-8f78-47e9-a4ea-6c7b1a7b3c77
DTSTAMP:20260424T064458Z
SUMMARY:Messfeier
DESCRIPTION:https://pfarreien-bistum-augsburg.df-preview.de/messfeier_id173
 8898
DTSTART;TZID=Europe/Berlin:20260508T090000
DURATION:PT30M
LOCATION:Heilig Geist
END:VEVENT
END:VCALENDAR
