BEGIN:VCALENDAR
VERSION:2.0
PRODID:-//Sabre//Sabre VObject 4.5.8//EN
CALSCALE:GREGORIAN
BEGIN:VEVENT
UID:sabre-vobject-b272827a-9b57-4970-adf3-97a2a76e2fc0
DTSTAMP:20260424T211442Z
SUMMARY:Altenberger Rosenkranz
DESCRIPTION:https://pfarreien-bistum-augsburg.df-preview.de/altenberger-ros
 enkranz_id1738889
DTSTART;TZID=Europe/Berlin:20260829T174500
DURATION:PT30M
LOCATION:Don Bosco
END:VEVENT
END:VCALENDAR
