BEGIN:VCALENDAR
VERSION:2.0
PRODID:-//Sabre//Sabre VObject 4.5.8//EN
CALSCALE:GREGORIAN
BEGIN:VEVENT
UID:sabre-vobject-7d34dd20-204f-44da-91a9-dc1a0d81da2d
DTSTAMP:20260425T003710Z
SUMMARY:Heilige Messe rumänisch-orthodoxe Gemeinde
DESCRIPTION:https://pfarreien-bistum-augsburg.df-preview.de/heilige-messe-r
 umaenisch-orthodoxe-gemeinde_id1738861
DTSTART;TZID=Europe/Berlin:20260712T110000
DURATION:PT30M
LOCATION:Don Bosco
END:VEVENT
END:VCALENDAR
