BEGIN:VCALENDAR
VERSION:2.0
PRODID:-//Sabre//Sabre VObject 4.5.8//EN
CALSCALE:GREGORIAN
BEGIN:VEVENT
UID:sabre-vobject-648d485b-bacc-4d9d-93f4-25a8225ece09
DTSTAMP:20260425T030425Z
SUMMARY:Eucharistiefeier anschließend eucharistische Anbetung
DESCRIPTION:https://pfarreien-bistum-augsburg.df-preview.de/eucharistiefeie
 r-anschliessend-eucharistische-anbetung_id1738853
DTSTART;TZID=Europe/Berlin:20260825T180000
DURATION:PT30M
LOCATION:Don Bosco
END:VEVENT
END:VCALENDAR
