BEGIN:VCALENDAR
VERSION:2.0
PRODID:-//Sabre//Sabre VObject 4.5.8//EN
CALSCALE:GREGORIAN
BEGIN:VEVENT
UID:sabre-vobject-d3620cb8-8a29-4a62-bfa0-b9342aef68af
DTSTAMP:20260426T023358Z
SUMMARY:Altenberger Rosenkranz
DESCRIPTION:https://pfarreien-bistum-augsburg.df-preview.de/altenberger-ros
 enkranz_id1738847
DTSTART;TZID=Europe/Berlin:20260627T174500
DURATION:PT30M
LOCATION:Don Bosco
END:VEVENT
END:VCALENDAR
