BEGIN:VCALENDAR
VERSION:2.0
PRODID:-//Sabre//Sabre VObject 4.5.8//EN
CALSCALE:GREGORIAN
BEGIN:VEVENT
UID:sabre-vobject-a260807a-1970-48a9-9cd1-8ed99aecd2dd
DTSTAMP:20260425T233014Z
SUMMARY:Eucharistiefeier im Haus am Schäfflerbach
DESCRIPTION:https://pfarreien-bistum-augsburg.df-preview.de/eucharistiefeie
 r-im-haus-am-schaefflerbach_id1738846
DTSTART;TZID=Europe/Berlin:20260626T160000
DURATION:PT30M
LOCATION:Don Bosco
END:VEVENT
END:VCALENDAR
