BEGIN:VCALENDAR
VERSION:2.0
PRODID:-//Sabre//Sabre VObject 4.5.8//EN
CALSCALE:GREGORIAN
BEGIN:VEVENT
UID:sabre-vobject-d4ef471c-13b7-4d94-b0da-48debf8c5a64
DTSTAMP:20260422T234859Z
SUMMARY:Eucharistiefeier im Haus am Schäfflerbach
DESCRIPTION:https://pfarreien-bistum-augsburg.df-preview.de/eucharistiefeie
 r-im-haus-am-schaefflerbach_id1738808
DTSTART;TZID=Europe/Berlin:20260522T160000
DURATION:PT30M
LOCATION:Don Bosco
END:VEVENT
END:VCALENDAR
