BEGIN:VCALENDAR
VERSION:2.0
PRODID:-//Sabre//Sabre VObject 4.5.8//EN
CALSCALE:GREGORIAN
BEGIN:VEVENT
UID:sabre-vobject-8eba32f6-72ab-4b95-856c-c269231cc775
DTSTAMP:20260422T190245Z
SUMMARY:Eucharistiefeier anschließend eucharistische Anbetung
DESCRIPTION:https://pfarreien-bistum-augsburg.df-preview.de/eucharistiefeie
 r-anschliessend-eucharistische-anbetung_id1738790
DTSTART;TZID=Europe/Berlin:20260519T180000
DURATION:PT30M
LOCATION:Don Bosco
END:VEVENT
END:VCALENDAR
