BEGIN:VCALENDAR
VERSION:2.0
PRODID:-//Sabre//Sabre VObject 4.5.8//EN
CALSCALE:GREGORIAN
BEGIN:VEVENT
UID:sabre-vobject-8b95bb54-4719-4fc4-9b1a-3e405f6b1fde
DTSTAMP:20260422T190243Z
SUMMARY:Maiandacht\n
DESCRIPTION:https://pfarreien-bistum-augsburg.df-preview.de/maiandacht_id17
 38788
DTSTART;TZID=Europe/Berlin:20260517T180000
DURATION:PT30M
LOCATION:Don Bosco
END:VEVENT
END:VCALENDAR
