BEGIN:VCALENDAR
VERSION:2.0
PRODID:-//Sabre//Sabre VObject 4.5.8//EN
CALSCALE:GREGORIAN
BEGIN:VEVENT
UID:sabre-vobject-e2a8abdb-da2f-4064-8a82-e52fabd18609
DTSTAMP:20260421T172843Z
SUMMARY:Konventmesse in Konzelebration
DESCRIPTION:https://pfarreien-bistum-augsburg.df-preview.de/konventmesse-in
 -konzelebration_id1738734
DTSTART;TZID=Europe/Berlin:20260423T190000
DURATION:PT30M
LOCATION:Mariä Himmelfahrt
END:VEVENT
END:VCALENDAR
