BEGIN:VCALENDAR
VERSION:2.0
PRODID:-//Sabre//Sabre VObject 4.5.8//EN
CALSCALE:GREGORIAN
BEGIN:VEVENT
UID:sabre-vobject-50f970a8-56b6-4042-845f-f891dbc8bdcc
DTSTAMP:20260425T213418Z
SUMMARY:Maiandacht in Au gestaltet vom Schützenverein Rehling
DESCRIPTION:https://pfarreien-bistum-augsburg.df-preview.de/maiandacht-in-a
 u-gestaltet-vom-schuetzenverein-rehling_id1738597
DTSTART;TZID=Europe/Berlin:20260508T190000
DURATION:PT30M
LOCATION:St. Vitus und Katharina
END:VEVENT
END:VCALENDAR
