BEGIN:VCALENDAR
VERSION:2.0
PRODID:-//Sabre//Sabre VObject 4.5.8//EN
CALSCALE:GREGORIAN
BEGIN:VEVENT
UID:sabre-vobject-d5ad5135-f702-42d7-a38a-fbbd109e1227
DTSTAMP:20260425T183614Z
SUMMARY:Maiandacht in Unterach gestaltet vom Frauenbund Rehling
DESCRIPTION:https://pfarreien-bistum-augsburg.df-preview.de/maiandacht-in-u
 nterach-gestaltet-vom-frauenbund-rehling_id1738568
DTSTART;TZID=Europe/Berlin:20260507T190000
DURATION:PT30M
LOCATION:St. Vitus und Katharina
END:VEVENT
END:VCALENDAR
