BEGIN:VCALENDAR
VERSION:2.0
PRODID:-//Sabre//Sabre VObject 4.5.8//EN
CALSCALE:GREGORIAN
BEGIN:VEVENT
UID:sabre-vobject-eed87a60-1199-471c-a157-2f1d7be260a4
DTSTAMP:20260425T172424Z
SUMMARY:Heilige Messe für Sieglinde Welz und Eltern
DESCRIPTION:https://pfarreien-bistum-augsburg.df-preview.de/heilige-messe-f
 uer-sieglinde-welz-und-eltern_id1738567
DTSTART;TZID=Europe/Berlin:20260507T071500
DURATION:PT30M
LOCATION:St. Vitus und Katharina
END:VEVENT
END:VCALENDAR
