BEGIN:VCALENDAR
VERSION:2.0
PRODID:-//Sabre//Sabre VObject 4.5.8//EN
CALSCALE:GREGORIAN
BEGIN:VEVENT
UID:sabre-vobject-84233f73-8151-4ea8-8410-4eb0952dde99
DTSTAMP:20260423T234750Z
SUMMARY:Messe im Caritas-Seniorenzentrum St. Hedwig
DESCRIPTION:https://pfarreien-bistum-augsburg.df-preview.de/messe-im-carita
 s-seniorenzentrum-st-hedwig_id1738467
DTSTART;TZID=Europe/Berlin:20260424T170000
DURATION:PT30M
LOCATION:St. Ulrich
END:VEVENT
END:VCALENDAR
