BEGIN:VCALENDAR
VERSION:2.0
PRODID:-//Sabre//Sabre VObject 4.5.8//EN
CALSCALE:GREGORIAN
BEGIN:VEVENT
UID:sabre-vobject-a6bab6d5-c59f-4aa9-a1ec-f5cab9a62b9b
DTSTAMP:20260422T152927Z
SUMMARY:Beichtgelegenheit in Zur Göttlichen Vorsehung
DESCRIPTION:https://pfarreien-bistum-augsburg.df-preview.de/beichtgelegenhe
 it-in-zur-goettlichen-vorsehung_id1738399
DTSTART;TZID=Europe/Berlin:20260422T190000
DURATION:PT30M
LOCATION:St. Ulrich
END:VEVENT
END:VCALENDAR
