BEGIN:VCALENDAR
VERSION:2.0
PRODID:-//Sabre//Sabre VObject 4.5.8//EN
CALSCALE:GREGORIAN
BEGIN:VEVENT
UID:sabre-vobject-498bd877-5e85-48a1-8d01-aa6347aafa35
DTSTAMP:20260423T150242Z
SUMMARY:Laudes in St. Ulrich
DESCRIPTION:https://pfarreien-bistum-augsburg.df-preview.de/laudes-in-st-ul
 rich_id1738377
DTSTART;TZID=Europe/Berlin:20260422T080000
DURATION:PT30M
LOCATION:St. Ulrich
END:VEVENT
END:VCALENDAR
