BEGIN:VCALENDAR
VERSION:2.0
PRODID:-//Sabre//Sabre VObject 4.5.8//EN
CALSCALE:GREGORIAN
BEGIN:VEVENT
UID:sabre-vobject-e1499794-fba1-4a1b-b42b-2e96e250984f
DTSTAMP:20260422T003828Z
SUMMARY:Hl. Messe u. Kinderkirche
DESCRIPTION:https://pfarreien-bistum-augsburg.df-preview.de/hl-messe-u-kind
 erkirche_id1738301
DTSTART;TZID=Europe/Berlin:20260419T100000
DURATION:PT30M
LOCATION:St. Johann Baptist
END:VEVENT
END:VCALENDAR
