BEGIN:VCALENDAR
VERSION:2.0
PRODID:-//Sabre//Sabre VObject 4.5.8//EN
CALSCALE:GREGORIAN
BEGIN:VEVENT
UID:sabre-vobject-a084736b-4f9c-4a5e-8b5a-515b2896b3f6
DTSTAMP:20260424T084427Z
SUMMARY:Rosenkranz
DESCRIPTION:https://pfarreien-bistum-augsburg.df-preview.de/rosenkranz_id17
 38106
DTSTART;TZID=Europe/Berlin:20260423T180000
DURATION:PT30M
LOCATION:Mariä Verkündigung
END:VEVENT
END:VCALENDAR
