BEGIN:VCALENDAR
VERSION:2.0
PRODID:-//Sabre//Sabre VObject 4.5.8//EN
CALSCALE:GREGORIAN
BEGIN:VEVENT
UID:sabre-vobject-bfb3d47f-f836-428f-9fa1-bf02ea0fffd3
DTSTAMP:20260422T002957Z
SUMMARY:2. Firmtreffen: "Hl. Geist - Sakrament der Firmung - Beichte" im gr
 oßen Pfarrsaal
DESCRIPTION:https://pfarreien-bistum-augsburg.df-preview.de/2-firmtreffen-h
 l-geist-sakrament-der-firmung-beichte-im-grossen-pfarrsaal_id1738096
DTSTART;TZID=Europe/Berlin:20260508T173000
DURATION:PT30M
LOCATION:Maria\, Hilfe der Christen
END:VEVENT
END:VCALENDAR
