BEGIN:VCALENDAR
VERSION:2.0
PRODID:-//Sabre//Sabre VObject 4.5.8//EN
CALSCALE:GREGORIAN
BEGIN:VEVENT
UID:sabre-vobject-62df6264-d0d8-4b38-aa39-38bf3596315c
DTSTAMP:20260420T224557Z
SUMMARY:Rosenkranz St. Josef
DESCRIPTION:https://pfarreien-bistum-augsburg.df-preview.de/rosenkranz-st-j
 osef_id1738058
DTSTART;TZID=Europe/Berlin:20260421T175000
DURATION:PT30M
LOCATION:St. Josef der Arbeiter
END:VEVENT
END:VCALENDAR
