BEGIN:VCALENDAR
VERSION:2.0
PRODID:-//Sabre//Sabre VObject 4.5.8//EN
CALSCALE:GREGORIAN
BEGIN:VEVENT
UID:sabre-vobject-f9250f06-4b4b-48ac-9c41-ca3cfed1e480
DTSTAMP:20260421T030136Z
SUMMARY:Pfarrgottesdienst in polnischer Sprache
DESCRIPTION:https://pfarreien-bistum-augsburg.df-preview.de/pfarrgottesdien
 st-in-polnischer-sprache_id1738057
DTSTART;TZID=Europe/Berlin:20260419T120000
DURATION:PT30M
LOCATION:St. Josef der Arbeiter
END:VEVENT
END:VCALENDAR
